BEGIN:VCALENDAR
VERSION:2.0
PRODID:-//Backseaters - ECPv6.15.20//NONSGML v1.0//EN
CALSCALE:GREGORIAN
METHOD:PUBLISH
X-ORIGINAL-URL:https://backseaters.nl
X-WR-CALDESC:Evenementen voor Backseaters
REFRESH-INTERVAL;VALUE=DURATION:PT1H
X-Robots-Tag:noindex
X-PUBLISHED-TTL:PT1H
BEGIN:VTIMEZONE
TZID:Europe/Amsterdam
BEGIN:DAYLIGHT
TZOFFSETFROM:+0100
TZOFFSETTO:+0200
TZNAME:CEST
DTSTART:20240331T010000
END:DAYLIGHT
BEGIN:STANDARD
TZOFFSETFROM:+0200
TZOFFSETTO:+0100
TZNAME:CET
DTSTART:20241027T010000
END:STANDARD
BEGIN:DAYLIGHT
TZOFFSETFROM:+0100
TZOFFSETTO:+0200
TZNAME:CEST
DTSTART:20250330T010000
END:DAYLIGHT
BEGIN:STANDARD
TZOFFSETFROM:+0200
TZOFFSETTO:+0100
TZNAME:CET
DTSTART:20251026T010000
END:STANDARD
BEGIN:DAYLIGHT
TZOFFSETFROM:+0100
TZOFFSETTO:+0200
TZNAME:CEST
DTSTART:20260329T010000
END:DAYLIGHT
BEGIN:STANDARD
TZOFFSETFROM:+0200
TZOFFSETTO:+0100
TZNAME:CET
DTSTART:20261025T010000
END:STANDARD
END:VTIMEZONE
BEGIN:VEVENT
DTSTART;TZID=Europe/Amsterdam:20251014T090000
DTEND;TZID=Europe/Amsterdam:20251014T170000
DTSTAMP:20260422T160502
CREATED:20250917T153844Z
LAST-MODIFIED:20250917T154647Z
UID:10000450-1760432400-1760461200@backseaters.nl
SUMMARY:Dino's in de Zoo
DESCRIPTION:
URL:https://backseaters.nl/event/dinos-in-de-zoo/2025-10-14/
LOCATION:Burgers’ Zoo\, Antoon van Hooffplein 1\, Arnhem\, Gelderland\, 6816 SH\, Netherlands
ATTACH;FMTTYPE=image/jpeg:https://backseaters.nl/wp-content/uploads/2025/09/Burgers-Zoo_Dinos-in-the-zoo_visual.jpg
END:VEVENT
BEGIN:VEVENT
DTSTART;TZID=Europe/Amsterdam:20251014T093000
DTEND;TZID=Europe/Amsterdam:20251014T170000
DTSTAMP:20260422T160502
CREATED:20250917T155333Z
LAST-MODIFIED:20250917T160315Z
UID:10000742-1760434200-1760461200@backseaters.nl
SUMMARY:DinoAdventures
DESCRIPTION:
URL:https://backseaters.nl/event/dinoadventures/2025-10-14/
LOCATION:Dierenpark Amersfoort\, Barchman Wuytierslaan 224\, Amersfoort\, Utrecht\, 3819 AC\, Netherlands
ATTACH;FMTTYPE=image/jpeg:https://backseaters.nl/wp-content/uploads/2025/09/Dierenpark-Amersfoort_DinoAdventures_banner.jpg
END:VEVENT
BEGIN:VEVENT
DTSTART;TZID=Europe/Amsterdam:20251014T100000
DTEND;TZID=Europe/Amsterdam:20251014T170000
DTSTAMP:20260422T160502
CREATED:20250917T182446Z
LAST-MODIFIED:20250917T182446Z
UID:10000758-1760436000-1760461200@backseaters.nl
SUMMARY:Kids-Halloween
DESCRIPTION:
URL:https://backseaters.nl/event/kids-halloween/2025-10-14/
LOCATION:Wunderland Kalkar\, Griether Straße 110-120\, Kalkar\, Nordrhein-Westfalen\, D-47546\, Germany
ATTACH;FMTTYPE=image/png:https://backseaters.nl/wp-content/uploads/2025/09/Wunderland-Kalkar_logo.png
END:VEVENT
BEGIN:VEVENT
DTSTART;TZID=Europe/Amsterdam:20251014T100000
DTEND;TZID=Europe/Amsterdam:20251014T170000
DTSTAMP:20260422T160502
CREATED:20250924T151937Z
LAST-MODIFIED:20250924T151937Z
UID:10000784-1760436000-1760461200@backseaters.nl
SUMMARY:Halloween Julianatoren
DESCRIPTION:
URL:https://backseaters.nl/event/halloween-julianatoren/2025-10-14/
LOCATION:Julianatoren\, Amersfoortseweg 35\, Apeldoorn\, Gelderland\, 7313 AC\, Netherlands
ATTACH;FMTTYPE=image/png:https://backseaters.nl/wp-content/uploads/2025/09/Julianatoren_Halloween_Griezelschool.png
END:VEVENT
BEGIN:VEVENT
DTSTART;TZID=Europe/Amsterdam:20251014T100000
DTEND;TZID=Europe/Amsterdam:20251014T180000
DTSTAMP:20260422T160502
CREATED:20250820T185306Z
LAST-MODIFIED:20250820T192905Z
UID:10000100-1760436000-1760464800@backseaters.nl
SUMMARY:Halloween Days
DESCRIPTION:
URL:https://backseaters.nl/event/halloween-days/2025-10-14/
LOCATION:Attractiepark Toverland\, Toverlaan 2\, Sevenum\, Limburg\, 5975 MR\, Netherlands
ATTACH;FMTTYPE=image/png:https://backseaters.nl/wp-content/uploads/2025/08/Toverland_logo.png
END:VEVENT
BEGIN:VEVENT
DTSTART;TZID=Europe/Amsterdam:20251014T120000
DTEND;TZID=Europe/Amsterdam:20251014T170000
DTSTAMP:20260422T160502
CREATED:20250820T191816Z
LAST-MODIFIED:20250820T200108Z
UID:10000169-1760443200-1760461200@backseaters.nl
SUMMARY:Scary Prairie
DESCRIPTION:
URL:https://backseaters.nl/event/scary-prairie/2025-10-14/
LOCATION:Attractie- & Vakantiepark Slagharen\, Zwarte Dijk 37\, Slagharen\, Overijssel\, 7776 PB\, Netherlands
ATTACH;FMTTYPE=image/png:https://backseaters.nl/wp-content/uploads/2025/08/Slagharen_Scary-Prairie_logo.png
END:VEVENT
BEGIN:VEVENT
DTSTART;TZID=Europe/Amsterdam:20251014T120000
DTEND;TZID=Europe/Amsterdam:20251014T210000
DTSTAMP:20260422T160502
CREATED:20250916T074437Z
LAST-MODIFIED:20250916T074642Z
UID:10000246-1760443200-1760475600@backseaters.nl
SUMMARY:DippeBoe
DESCRIPTION:
URL:https://backseaters.nl/event/dippeboe/2025-10-14/
LOCATION:Attractiepark DippieDoe\, Ekkersweijer 1\, Best\, Noord-Brabant\, 5681 RZ\, Netherlands
ATTACH;FMTTYPE=image/jpeg:https://backseaters.nl/wp-content/uploads/2025/09/Attractiepark-DippieDoe_Halloween_DippieBoe_logo.jpg
END:VEVENT
END:VCALENDAR