BEGIN:VCALENDAR
VERSION:2.0
PRODID:-//Backseaters - ECPv6.15.20//NONSGML v1.0//EN
CALSCALE:GREGORIAN
METHOD:PUBLISH
X-WR-CALNAME:Backseaters
X-ORIGINAL-URL:https://backseaters.nl
X-WR-CALDESC:Evenementen voor Backseaters
REFRESH-INTERVAL;VALUE=DURATION:PT1H
X-Robots-Tag:noindex
X-PUBLISHED-TTL:PT1H
BEGIN:VTIMEZONE
TZID:Europe/Amsterdam
BEGIN:DAYLIGHT
TZOFFSETFROM:+0100
TZOFFSETTO:+0200
TZNAME:CEST
DTSTART:20240331T010000
END:DAYLIGHT
BEGIN:STANDARD
TZOFFSETFROM:+0200
TZOFFSETTO:+0100
TZNAME:CET
DTSTART:20241027T010000
END:STANDARD
BEGIN:DAYLIGHT
TZOFFSETFROM:+0100
TZOFFSETTO:+0200
TZNAME:CEST
DTSTART:20250330T010000
END:DAYLIGHT
BEGIN:STANDARD
TZOFFSETFROM:+0200
TZOFFSETTO:+0100
TZNAME:CET
DTSTART:20251026T010000
END:STANDARD
BEGIN:DAYLIGHT
TZOFFSETFROM:+0100
TZOFFSETTO:+0200
TZNAME:CEST
DTSTART:20260329T010000
END:DAYLIGHT
BEGIN:STANDARD
TZOFFSETFROM:+0200
TZOFFSETTO:+0100
TZNAME:CET
DTSTART:20261025T010000
END:STANDARD
END:VTIMEZONE
BEGIN:VEVENT
DTSTART;TZID=Europe/Amsterdam:20251107T100000
DTEND;TZID=Europe/Amsterdam:20251107T220000
DTSTAMP:20260422T122740
CREATED:20250916T090824Z
LAST-MODIFIED:20250916T090824Z
UID:10000273-1762509600-1762552800@backseaters.nl
SUMMARY:Halloween Horror Festival
DESCRIPTION:
URL:https://backseaters.nl/event/halloween-horror-festival/2025-11-07/
LOCATION:Movie Park Germany\, Warner Allee 1\, Bottrop-Kirchhellen\, Nordrhein-Westfalen\, 46244\, Germany
ATTACH;FMTTYPE=image/jpeg:https://backseaters.nl/wp-content/uploads/2025/09/Movie-Park-Germany_logo.jpg
END:VEVENT
BEGIN:VEVENT
DTSTART;TZID=Europe/Amsterdam:20251107T190000
DTEND;TZID=Europe/Amsterdam:20251107T233000
DTSTAMP:20260422T122740
CREATED:20250916T095900Z
LAST-MODIFIED:20250916T095900Z
UID:10000333-1762542000-1762558200@backseaters.nl
SUMMARY:Traumatica
DESCRIPTION:
URL:https://backseaters.nl/event/traumatica/2025-11-07/
LOCATION:Europa-Park\, Europapark-Straße 2\, Rust\, Baden-Württemberg\, 77977\, Germany
ATTACH;FMTTYPE=image/png:https://backseaters.nl/wp-content/uploads/2025/09/Traumatica_logo.png
END:VEVENT
BEGIN:VEVENT
DTSTART;TZID=Europe/Amsterdam:20251107T193000
DTEND;TZID=Europe/Amsterdam:20251107T230000
DTSTAMP:20260422T122740
CREATED:20250816T193530Z
LAST-MODIFIED:20250820T182306Z
UID:10000051-1762543800-1762556400@backseaters.nl
SUMMARY:Scare Me
DESCRIPTION:
URL:https://backseaters.nl/event/scare-me/2025-11-07/
LOCATION:Scare Me\, De Steiger 57\, Almere-Haven\, Flevoland\, 1351 AD\, Netherlands
ATTACH;FMTTYPE=image/png:https://backseaters.nl/wp-content/uploads/2025/08/Scare-Me_logo.png
ORGANIZER;CN="Perry Mulder Productions":MAILTO:perry.mulder@scareme.nl
END:VEVENT
END:VCALENDAR