BEGIN:VCALENDAR
VERSION:2.0
PRODID:-//Backseaters - ECPv6.15.20//NONSGML v1.0//EN
CALSCALE:GREGORIAN
METHOD:PUBLISH
X-WR-CALNAME:Backseaters
X-ORIGINAL-URL:https://backseaters.nl
X-WR-CALDESC:Evenementen voor Backseaters
REFRESH-INTERVAL;VALUE=DURATION:PT1H
X-Robots-Tag:noindex
X-PUBLISHED-TTL:PT1H
BEGIN:VTIMEZONE
TZID:Europe/Amsterdam
BEGIN:DAYLIGHT
TZOFFSETFROM:+0100
TZOFFSETTO:+0200
TZNAME:CEST
DTSTART:20240331T010000
END:DAYLIGHT
BEGIN:STANDARD
TZOFFSETFROM:+0200
TZOFFSETTO:+0100
TZNAME:CET
DTSTART:20241027T010000
END:STANDARD
BEGIN:DAYLIGHT
TZOFFSETFROM:+0100
TZOFFSETTO:+0200
TZNAME:CEST
DTSTART:20250330T010000
END:DAYLIGHT
BEGIN:STANDARD
TZOFFSETFROM:+0200
TZOFFSETTO:+0100
TZNAME:CET
DTSTART:20251026T010000
END:STANDARD
BEGIN:DAYLIGHT
TZOFFSETFROM:+0100
TZOFFSETTO:+0200
TZNAME:CEST
DTSTART:20260329T010000
END:DAYLIGHT
BEGIN:STANDARD
TZOFFSETFROM:+0200
TZOFFSETTO:+0100
TZNAME:CET
DTSTART:20261025T010000
END:STANDARD
END:VTIMEZONE
BEGIN:VEVENT
DTSTART;TZID=Europe/Amsterdam:20251016T100000
DTEND;TZID=Europe/Amsterdam:20251016T180000
DTSTAMP:20260420T203159
CREATED:20250820T185306Z
LAST-MODIFIED:20250820T192905Z
UID:10000086-1760608800-1760637600@backseaters.nl
SUMMARY:Halloween Days
DESCRIPTION:
URL:https://backseaters.nl/event/halloween-days/2025-10-16/
LOCATION:Attractiepark Toverland\, Toverlaan 2\, Sevenum\, Limburg\, 5975 MR\, Netherlands
ATTACH;FMTTYPE=image/png:https://backseaters.nl/wp-content/uploads/2025/08/Toverland_logo.png
END:VEVENT
BEGIN:VEVENT
DTSTART;TZID=Europe/Amsterdam:20251016T100000
DTEND;TZID=Europe/Amsterdam:20251016T170000
DTSTAMP:20260420T203159
CREATED:20250924T151937Z
LAST-MODIFIED:20250924T151937Z
UID:10000786-1760608800-1760634000@backseaters.nl
SUMMARY:Halloween Julianatoren
DESCRIPTION:
URL:https://backseaters.nl/event/halloween-julianatoren/2025-10-16/
LOCATION:Julianatoren\, Amersfoortseweg 35\, Apeldoorn\, Gelderland\, 7313 AC\, Netherlands
ATTACH;FMTTYPE=image/png:https://backseaters.nl/wp-content/uploads/2025/09/Julianatoren_Halloween_Griezelschool.png
END:VEVENT
BEGIN:VEVENT
DTSTART;TZID=Europe/Amsterdam:20251016T100000
DTEND;TZID=Europe/Amsterdam:20251016T170000
DTSTAMP:20260420T203159
CREATED:20250917T182446Z
LAST-MODIFIED:20250917T182446Z
UID:10000760-1760608800-1760634000@backseaters.nl
SUMMARY:Kids-Halloween
DESCRIPTION:
URL:https://backseaters.nl/event/kids-halloween/2025-10-16/
LOCATION:Wunderland Kalkar\, Griether Straße 110-120\, Kalkar\, Nordrhein-Westfalen\, D-47546\, Germany
ATTACH;FMTTYPE=image/png:https://backseaters.nl/wp-content/uploads/2025/09/Wunderland-Kalkar_logo.png
END:VEVENT
BEGIN:VEVENT
DTSTART;TZID=Europe/Amsterdam:20251016T100000
DTEND;TZID=Europe/Amsterdam:20251016T170000
DTSTAMP:20260420T203159
CREATED:20250916T092051Z
LAST-MODIFIED:20250916T092051Z
UID:10000279-1760608800-1760634000@backseaters.nl
SUMMARY:Halloween Bobbejaanland
DESCRIPTION:
URL:https://backseaters.nl/event/halloween-bobbejaanland/2025-10-16/
LOCATION:Bobbejaanland\, Olensteenweg 45\, Lichtaart\, Antwerpen\, 2460\, Belgium
ATTACH;FMTTYPE=image/png:https://backseaters.nl/wp-content/uploads/2025/09/Bobbejaanland_logo-scaled.png
END:VEVENT
BEGIN:VEVENT
DTSTART;TZID=Europe/Amsterdam:20251016T093000
DTEND;TZID=Europe/Amsterdam:20251016T170000
DTSTAMP:20260420T203159
CREATED:20250917T155333Z
LAST-MODIFIED:20250917T160315Z
UID:10000744-1760607000-1760634000@backseaters.nl
SUMMARY:DinoAdventures
DESCRIPTION:
URL:https://backseaters.nl/event/dinoadventures/2025-10-16/
LOCATION:Dierenpark Amersfoort\, Barchman Wuytierslaan 224\, Amersfoort\, Utrecht\, 3819 AC\, Netherlands
ATTACH;FMTTYPE=image/jpeg:https://backseaters.nl/wp-content/uploads/2025/09/Dierenpark-Amersfoort_DinoAdventures_banner.jpg
END:VEVENT
BEGIN:VEVENT
DTSTART;TZID=Europe/Amsterdam:20251016T090000
DTEND;TZID=Europe/Amsterdam:20251016T170000
DTSTAMP:20260420T203159
CREATED:20250917T153844Z
LAST-MODIFIED:20250917T154647Z
UID:10000452-1760605200-1760634000@backseaters.nl
SUMMARY:Dino's in de Zoo
DESCRIPTION:
URL:https://backseaters.nl/event/dinos-in-de-zoo/2025-10-16/
LOCATION:Burgers’ Zoo\, Antoon van Hooffplein 1\, Arnhem\, Gelderland\, 6816 SH\, Netherlands
ATTACH;FMTTYPE=image/jpeg:https://backseaters.nl/wp-content/uploads/2025/09/Burgers-Zoo_Dinos-in-the-zoo_visual.jpg
END:VEVENT
BEGIN:VEVENT
DTSTART;TZID=Europe/Amsterdam:20251015T180000
DTEND;TZID=Europe/Amsterdam:20251015T230000
DTSTAMP:20260420T203159
CREATED:20250816T174049Z
LAST-MODIFIED:20250820T185829Z
UID:10000115-1760551200-1760569200@backseaters.nl
SUMMARY:Halloween Nights
DESCRIPTION:
URL:https://backseaters.nl/event/halloween-nights/2025-10-15/
LOCATION:Attractiepark Toverland\, Toverlaan 2\, Sevenum\, Limburg\, 5975 MR\, Netherlands
ATTACH;FMTTYPE=image/png:https://backseaters.nl/wp-content/uploads/2025/08/Toverland_logo.png
END:VEVENT
BEGIN:VEVENT
DTSTART;TZID=Europe/Amsterdam:20251015T180000
DTEND;TZID=Europe/Amsterdam:20251015T210000
DTSTAMP:20260420T203159
CREATED:20250820T174302Z
LAST-MODIFIED:20250820T174451Z
UID:10000077-1760551200-1760562000@backseaters.nl
SUMMARY:Lost in the Park
DESCRIPTION:
URL:https://backseaters.nl/event/lost-in-the-park-2/2025-10-15/
LOCATION:Drouwenerzand Attractiepark\, Gasselterstraat 7\, Drouwen\, Drenthe\, 9533 PC\, Netherlands
ATTACH;FMTTYPE=image/png:https://backseaters.nl/wp-content/uploads/2025/08/Drouwenerzand-Attractiepark_logo.png
ORGANIZER;CN="Drouwenerzand Attractiepark":MAILTO:info@drouwenerzand.nl
END:VEVENT
BEGIN:VEVENT
DTSTART;TZID=Europe/Amsterdam:20251015T130000
DTEND;TZID=Europe/Amsterdam:20251015T170000
DTSTAMP:20260420T203159
CREATED:20250816T185749Z
LAST-MODIFIED:20250820T174353Z
UID:10000041-1760533200-1760547600@backseaters.nl
SUMMARY:Happy Halloween
DESCRIPTION:
URL:https://backseaters.nl/event/happy-halloween/2025-10-15/
LOCATION:Drouwenerzand Attractiepark\, Gasselterstraat 7\, Drouwen\, Drenthe\, 9533 PC\, Netherlands
ATTACH;FMTTYPE=image/png:https://backseaters.nl/wp-content/uploads/2025/08/Drouwenerzand-Attractiepark_logo.png
ORGANIZER;CN="Drouwenerzand Attractiepark":MAILTO:info@drouwenerzand.nl
END:VEVENT
BEGIN:VEVENT
DTSTART;TZID=Europe/Amsterdam:20251015T120000
DTEND;TZID=Europe/Amsterdam:20251015T210000
DTSTAMP:20260420T203159
CREATED:20250916T074437Z
LAST-MODIFIED:20250916T074642Z
UID:10000247-1760529600-1760562000@backseaters.nl
SUMMARY:DippeBoe
DESCRIPTION:
URL:https://backseaters.nl/event/dippeboe/2025-10-15/
LOCATION:Attractiepark DippieDoe\, Ekkersweijer 1\, Best\, Noord-Brabant\, 5681 RZ\, Netherlands
ATTACH;FMTTYPE=image/jpeg:https://backseaters.nl/wp-content/uploads/2025/09/Attractiepark-DippieDoe_Halloween_DippieBoe_logo.jpg
END:VEVENT
BEGIN:VEVENT
DTSTART;TZID=Europe/Amsterdam:20251015T120000
DTEND;TZID=Europe/Amsterdam:20251015T170000
DTSTAMP:20260420T203159
CREATED:20250820T191816Z
LAST-MODIFIED:20250820T200108Z
UID:10000170-1760529600-1760547600@backseaters.nl
SUMMARY:Scary Prairie
DESCRIPTION:
URL:https://backseaters.nl/event/scary-prairie/2025-10-15/
LOCATION:Attractie- & Vakantiepark Slagharen\, Zwarte Dijk 37\, Slagharen\, Overijssel\, 7776 PB\, Netherlands
ATTACH;FMTTYPE=image/png:https://backseaters.nl/wp-content/uploads/2025/08/Slagharen_Scary-Prairie_logo.png
END:VEVENT
BEGIN:VEVENT
DTSTART;TZID=Europe/Amsterdam:20251015T100000
DTEND;TZID=Europe/Amsterdam:20251015T180000
DTSTAMP:20260420T203159
CREATED:20250820T193309Z
LAST-MODIFIED:20250820T195618Z
UID:10000200-1760522400-1760551200@backseaters.nl
SUMMARY:Halloween Spooky Days
DESCRIPTION:
URL:https://backseaters.nl/event/halloween-spooky-days/2025-10-15/
LOCATION:Walibi Holland\, Spijkweg 30\, Biddinghuizen\, Flevoland\, 8256 RJ\, Netherlands
ATTACH;FMTTYPE=image/png:https://backseaters.nl/wp-content/uploads/2025/08/Walibi-Holland_alloween-Spooky-Days_logo.png
END:VEVENT
BEGIN:VEVENT
DTSTART;TZID=Europe/Amsterdam:20251015T100000
DTEND;TZID=Europe/Amsterdam:20251015T180000
DTSTAMP:20260420T203159
CREATED:20250820T185306Z
LAST-MODIFIED:20250820T192905Z
UID:10000085-1760522400-1760551200@backseaters.nl
SUMMARY:Halloween Days
DESCRIPTION:
URL:https://backseaters.nl/event/halloween-days/2025-10-15/
LOCATION:Attractiepark Toverland\, Toverlaan 2\, Sevenum\, Limburg\, 5975 MR\, Netherlands
ATTACH;FMTTYPE=image/png:https://backseaters.nl/wp-content/uploads/2025/08/Toverland_logo.png
END:VEVENT
BEGIN:VEVENT
DTSTART;TZID=Europe/Amsterdam:20251015T100000
DTEND;TZID=Europe/Amsterdam:20251015T170000
DTSTAMP:20260420T203159
CREATED:20250924T151937Z
LAST-MODIFIED:20250924T151937Z
UID:10000785-1760522400-1760547600@backseaters.nl
SUMMARY:Halloween Julianatoren
DESCRIPTION:
URL:https://backseaters.nl/event/halloween-julianatoren/2025-10-15/
LOCATION:Julianatoren\, Amersfoortseweg 35\, Apeldoorn\, Gelderland\, 7313 AC\, Netherlands
ATTACH;FMTTYPE=image/png:https://backseaters.nl/wp-content/uploads/2025/09/Julianatoren_Halloween_Griezelschool.png
END:VEVENT
BEGIN:VEVENT
DTSTART;TZID=Europe/Amsterdam:20251015T100000
DTEND;TZID=Europe/Amsterdam:20251015T170000
DTSTAMP:20260420T203159
CREATED:20250917T182446Z
LAST-MODIFIED:20250917T182446Z
UID:10000759-1760522400-1760547600@backseaters.nl
SUMMARY:Kids-Halloween
DESCRIPTION:
URL:https://backseaters.nl/event/kids-halloween/2025-10-15/
LOCATION:Wunderland Kalkar\, Griether Straße 110-120\, Kalkar\, Nordrhein-Westfalen\, D-47546\, Germany
ATTACH;FMTTYPE=image/png:https://backseaters.nl/wp-content/uploads/2025/09/Wunderland-Kalkar_logo.png
END:VEVENT
BEGIN:VEVENT
DTSTART;TZID=Europe/Amsterdam:20251015T100000
DTEND;TZID=Europe/Amsterdam:20251015T170000
DTSTAMP:20260420T203159
CREATED:20250916T092051Z
LAST-MODIFIED:20250916T092051Z
UID:10000278-1760522400-1760547600@backseaters.nl
SUMMARY:Halloween Bobbejaanland
DESCRIPTION:
URL:https://backseaters.nl/event/halloween-bobbejaanland/2025-10-15/
LOCATION:Bobbejaanland\, Olensteenweg 45\, Lichtaart\, Antwerpen\, 2460\, Belgium
ATTACH;FMTTYPE=image/png:https://backseaters.nl/wp-content/uploads/2025/09/Bobbejaanland_logo-scaled.png
END:VEVENT
BEGIN:VEVENT
DTSTART;TZID=Europe/Amsterdam:20251015T100000
DTEND;TZID=Europe/Amsterdam:20251015T170000
DTSTAMP:20260420T203159
CREATED:20250916T072916Z
LAST-MODIFIED:20250916T072916Z
UID:10000234-1760522400-1760547600@backseaters.nl
SUMMARY:Duistere Dagen
DESCRIPTION:
URL:https://backseaters.nl/event/duistere-dagen/2025-10-15/
LOCATION:Familiepark Drievliet\, Laan van 's-Gravenmade\, Den Haag\, Zuid-Holland\, 2495 BD\, Netherlands
ATTACH;FMTTYPE=image/png:https://backseaters.nl/wp-content/uploads/2025/09/Familiepark-Drievliet_Halloween_Duistere-Dagen.png
END:VEVENT
BEGIN:VEVENT
DTSTART;TZID=Europe/Amsterdam:20251015T100000
DTEND;TZID=Europe/Amsterdam:20251015T170000
DTSTAMP:20260420T203159
CREATED:20250820T190931Z
LAST-MODIFIED:20250820T200522Z
UID:10000145-1760522400-1760547600@backseaters.nl
SUMMARY:Heksendoorn
DESCRIPTION:
URL:https://backseaters.nl/event/heksendoorn/2025-10-15/
LOCATION:Avonturenpark Hellendoorn\, Luttenbergerweg 22\, Hellendoorn\, Overijssel\, 7447 PB\, Netherlands
ATTACH;FMTTYPE=image/png:https://backseaters.nl/wp-content/uploads/2025/08/Avonturenpark-Hellendoorn_Heksendoorn_logo.png
END:VEVENT
BEGIN:VEVENT
DTSTART;TZID=Europe/Amsterdam:20251015T093000
DTEND;TZID=Europe/Amsterdam:20251015T170000
DTSTAMP:20260420T203159
CREATED:20250917T155333Z
LAST-MODIFIED:20250917T160315Z
UID:10000743-1760520600-1760547600@backseaters.nl
SUMMARY:DinoAdventures
DESCRIPTION:
URL:https://backseaters.nl/event/dinoadventures/2025-10-15/
LOCATION:Dierenpark Amersfoort\, Barchman Wuytierslaan 224\, Amersfoort\, Utrecht\, 3819 AC\, Netherlands
ATTACH;FMTTYPE=image/jpeg:https://backseaters.nl/wp-content/uploads/2025/09/Dierenpark-Amersfoort_DinoAdventures_banner.jpg
END:VEVENT
BEGIN:VEVENT
DTSTART;TZID=Europe/Amsterdam:20251015T090000
DTEND;TZID=Europe/Amsterdam:20251015T170000
DTSTAMP:20260420T203159
CREATED:20250917T153844Z
LAST-MODIFIED:20250917T154647Z
UID:10000451-1760518800-1760547600@backseaters.nl
SUMMARY:Dino's in de Zoo
DESCRIPTION:
URL:https://backseaters.nl/event/dinos-in-de-zoo/2025-10-15/
LOCATION:Burgers’ Zoo\, Antoon van Hooffplein 1\, Arnhem\, Gelderland\, 6816 SH\, Netherlands
ATTACH;FMTTYPE=image/jpeg:https://backseaters.nl/wp-content/uploads/2025/09/Burgers-Zoo_Dinos-in-the-zoo_visual.jpg
END:VEVENT
BEGIN:VEVENT
DTSTART;TZID=Europe/Amsterdam:20251014T120000
DTEND;TZID=Europe/Amsterdam:20251014T210000
DTSTAMP:20260420T203159
CREATED:20250916T074437Z
LAST-MODIFIED:20250916T074642Z
UID:10000246-1760443200-1760475600@backseaters.nl
SUMMARY:DippeBoe
DESCRIPTION:
URL:https://backseaters.nl/event/dippeboe/2025-10-14/
LOCATION:Attractiepark DippieDoe\, Ekkersweijer 1\, Best\, Noord-Brabant\, 5681 RZ\, Netherlands
ATTACH;FMTTYPE=image/jpeg:https://backseaters.nl/wp-content/uploads/2025/09/Attractiepark-DippieDoe_Halloween_DippieBoe_logo.jpg
END:VEVENT
BEGIN:VEVENT
DTSTART;TZID=Europe/Amsterdam:20251014T120000
DTEND;TZID=Europe/Amsterdam:20251014T170000
DTSTAMP:20260420T203159
CREATED:20250820T191816Z
LAST-MODIFIED:20250820T200108Z
UID:10000169-1760443200-1760461200@backseaters.nl
SUMMARY:Scary Prairie
DESCRIPTION:
URL:https://backseaters.nl/event/scary-prairie/2025-10-14/
LOCATION:Attractie- & Vakantiepark Slagharen\, Zwarte Dijk 37\, Slagharen\, Overijssel\, 7776 PB\, Netherlands
ATTACH;FMTTYPE=image/png:https://backseaters.nl/wp-content/uploads/2025/08/Slagharen_Scary-Prairie_logo.png
END:VEVENT
BEGIN:VEVENT
DTSTART;TZID=Europe/Amsterdam:20251014T100000
DTEND;TZID=Europe/Amsterdam:20251014T180000
DTSTAMP:20260420T203159
CREATED:20250820T185306Z
LAST-MODIFIED:20250820T192905Z
UID:10000100-1760436000-1760464800@backseaters.nl
SUMMARY:Halloween Days
DESCRIPTION:
URL:https://backseaters.nl/event/halloween-days/2025-10-14/
LOCATION:Attractiepark Toverland\, Toverlaan 2\, Sevenum\, Limburg\, 5975 MR\, Netherlands
ATTACH;FMTTYPE=image/png:https://backseaters.nl/wp-content/uploads/2025/08/Toverland_logo.png
END:VEVENT
BEGIN:VEVENT
DTSTART;TZID=Europe/Amsterdam:20251014T100000
DTEND;TZID=Europe/Amsterdam:20251014T170000
DTSTAMP:20260420T203159
CREATED:20250924T151937Z
LAST-MODIFIED:20250924T151937Z
UID:10000784-1760436000-1760461200@backseaters.nl
SUMMARY:Halloween Julianatoren
DESCRIPTION:
URL:https://backseaters.nl/event/halloween-julianatoren/2025-10-14/
LOCATION:Julianatoren\, Amersfoortseweg 35\, Apeldoorn\, Gelderland\, 7313 AC\, Netherlands
ATTACH;FMTTYPE=image/png:https://backseaters.nl/wp-content/uploads/2025/09/Julianatoren_Halloween_Griezelschool.png
END:VEVENT
BEGIN:VEVENT
DTSTART;TZID=Europe/Amsterdam:20251014T100000
DTEND;TZID=Europe/Amsterdam:20251014T170000
DTSTAMP:20260420T203159
CREATED:20250917T182446Z
LAST-MODIFIED:20250917T182446Z
UID:10000758-1760436000-1760461200@backseaters.nl
SUMMARY:Kids-Halloween
DESCRIPTION:
URL:https://backseaters.nl/event/kids-halloween/2025-10-14/
LOCATION:Wunderland Kalkar\, Griether Straße 110-120\, Kalkar\, Nordrhein-Westfalen\, D-47546\, Germany
ATTACH;FMTTYPE=image/png:https://backseaters.nl/wp-content/uploads/2025/09/Wunderland-Kalkar_logo.png
END:VEVENT
BEGIN:VEVENT
DTSTART;TZID=Europe/Amsterdam:20251014T093000
DTEND;TZID=Europe/Amsterdam:20251014T170000
DTSTAMP:20260420T203159
CREATED:20250917T155333Z
LAST-MODIFIED:20250917T160315Z
UID:10000742-1760434200-1760461200@backseaters.nl
SUMMARY:DinoAdventures
DESCRIPTION:
URL:https://backseaters.nl/event/dinoadventures/2025-10-14/
LOCATION:Dierenpark Amersfoort\, Barchman Wuytierslaan 224\, Amersfoort\, Utrecht\, 3819 AC\, Netherlands
ATTACH;FMTTYPE=image/jpeg:https://backseaters.nl/wp-content/uploads/2025/09/Dierenpark-Amersfoort_DinoAdventures_banner.jpg
END:VEVENT
BEGIN:VEVENT
DTSTART;TZID=Europe/Amsterdam:20251014T090000
DTEND;TZID=Europe/Amsterdam:20251014T170000
DTSTAMP:20260420T203159
CREATED:20250917T153844Z
LAST-MODIFIED:20250917T154647Z
UID:10000450-1760432400-1760461200@backseaters.nl
SUMMARY:Dino's in de Zoo
DESCRIPTION:
URL:https://backseaters.nl/event/dinos-in-de-zoo/2025-10-14/
LOCATION:Burgers’ Zoo\, Antoon van Hooffplein 1\, Arnhem\, Gelderland\, 6816 SH\, Netherlands
ATTACH;FMTTYPE=image/jpeg:https://backseaters.nl/wp-content/uploads/2025/09/Burgers-Zoo_Dinos-in-the-zoo_visual.jpg
END:VEVENT
BEGIN:VEVENT
DTSTART;TZID=Europe/Amsterdam:20251013T180000
DTEND;TZID=Europe/Amsterdam:20251013T230000
DTSTAMP:20260420T203159
CREATED:20250816T174049Z
LAST-MODIFIED:20250820T185829Z
UID:10000114-1760378400-1760396400@backseaters.nl
SUMMARY:Halloween Nights
DESCRIPTION:
URL:https://backseaters.nl/event/halloween-nights/2025-10-13/
LOCATION:Attractiepark Toverland\, Toverlaan 2\, Sevenum\, Limburg\, 5975 MR\, Netherlands
ATTACH;FMTTYPE=image/png:https://backseaters.nl/wp-content/uploads/2025/08/Toverland_logo.png
END:VEVENT
BEGIN:VEVENT
DTSTART;TZID=Europe/Amsterdam:20251013T120000
DTEND;TZID=Europe/Amsterdam:20251013T170000
DTSTAMP:20260420T203159
CREATED:20250820T191816Z
LAST-MODIFIED:20250820T200108Z
UID:10000168-1760356800-1760374800@backseaters.nl
SUMMARY:Scary Prairie
DESCRIPTION:
URL:https://backseaters.nl/event/scary-prairie/2025-10-13/
LOCATION:Attractie- & Vakantiepark Slagharen\, Zwarte Dijk 37\, Slagharen\, Overijssel\, 7776 PB\, Netherlands
ATTACH;FMTTYPE=image/png:https://backseaters.nl/wp-content/uploads/2025/08/Slagharen_Scary-Prairie_logo.png
END:VEVENT
BEGIN:VEVENT
DTSTART;TZID=Europe/Amsterdam:20251013T100000
DTEND;TZID=Europe/Amsterdam:20251013T180000
DTSTAMP:20260420T203159
CREATED:20250820T185306Z
LAST-MODIFIED:20250820T192905Z
UID:10000084-1760349600-1760378400@backseaters.nl
SUMMARY:Halloween Days
DESCRIPTION:
URL:https://backseaters.nl/event/halloween-days/2025-10-13/
LOCATION:Attractiepark Toverland\, Toverlaan 2\, Sevenum\, Limburg\, 5975 MR\, Netherlands
ATTACH;FMTTYPE=image/png:https://backseaters.nl/wp-content/uploads/2025/08/Toverland_logo.png
END:VEVENT
END:VCALENDAR