BEGIN:VCALENDAR
VERSION:2.0
PRODID:-//Backseaters - ECPv6.15.20//NONSGML v1.0//EN
CALSCALE:GREGORIAN
METHOD:PUBLISH
X-WR-CALNAME:Backseaters
X-ORIGINAL-URL:https://backseaters.nl
X-WR-CALDESC:Evenementen voor Backseaters
REFRESH-INTERVAL;VALUE=DURATION:PT1H
X-Robots-Tag:noindex
X-PUBLISHED-TTL:PT1H
BEGIN:VTIMEZONE
TZID:Europe/Amsterdam
BEGIN:DAYLIGHT
TZOFFSETFROM:+0100
TZOFFSETTO:+0200
TZNAME:CEST
DTSTART:20250330T010000
END:DAYLIGHT
BEGIN:STANDARD
TZOFFSETFROM:+0200
TZOFFSETTO:+0100
TZNAME:CET
DTSTART:20251026T010000
END:STANDARD
BEGIN:DAYLIGHT
TZOFFSETFROM:+0100
TZOFFSETTO:+0200
TZNAME:CEST
DTSTART:20260329T010000
END:DAYLIGHT
BEGIN:STANDARD
TZOFFSETFROM:+0200
TZOFFSETTO:+0100
TZNAME:CET
DTSTART:20261025T010000
END:STANDARD
BEGIN:DAYLIGHT
TZOFFSETFROM:+0100
TZOFFSETTO:+0200
TZNAME:CEST
DTSTART:20270328T010000
END:DAYLIGHT
BEGIN:STANDARD
TZOFFSETFROM:+0200
TZOFFSETTO:+0100
TZNAME:CET
DTSTART:20271031T010000
END:STANDARD
END:VTIMEZONE
BEGIN:VEVENT
DTSTART;TZID=Europe/Amsterdam:20260107T110000
DTEND;TZID=Europe/Amsterdam:20260107T180000
DTSTAMP:20260421T000806
CREATED:20251118T151637Z
LAST-MODIFIED:20251118T153121Z
UID:10000910-1767783600-1767808800@backseaters.nl
SUMMARY:Winter Feelings
DESCRIPTION:
URL:https://backseaters.nl/event/winter-feelings/2026-01-07/
LOCATION:Attractiepark Toverland\, Toverlaan 2\, Sevenum\, Limburg\, 5975 MR\, Netherlands
ATTACH;FMTTYPE=image/png:https://backseaters.nl/wp-content/uploads/2025/08/Toverland_logo.png
END:VEVENT
BEGIN:VEVENT
DTSTART;TZID=Europe/Amsterdam:20260107T110000
DTEND;TZID=Europe/Amsterdam:20260107T180000
DTSTAMP:20260421T000806
CREATED:20260106T162859Z
LAST-MODIFIED:20260106T162957Z
UID:10000948-1767783600-1767808800@backseaters.nl
SUMMARY:Winter Feelings
DESCRIPTION:
URL:https://backseaters.nl/event/winter-feelings-2/
LOCATION:Attractiepark Toverland\, Toverlaan 2\, Sevenum\, Limburg\, 5975 MR\, Netherlands
ATTACH;FMTTYPE=image/png:https://backseaters.nl/wp-content/uploads/2025/08/Toverland_logo.png
END:VEVENT
BEGIN:VEVENT
DTSTART;TZID=Europe/Amsterdam:20260110T110000
DTEND;TZID=Europe/Amsterdam:20260110T190000
DTSTAMP:20260421T000806
CREATED:20251118T151637Z
LAST-MODIFIED:20251118T153121Z
UID:10000911-1768042800-1768071600@backseaters.nl
SUMMARY:Winter Feelings
DESCRIPTION:
URL:https://backseaters.nl/event/winter-feelings/2026-01-10/
LOCATION:Attractiepark Toverland\, Toverlaan 2\, Sevenum\, Limburg\, 5975 MR\, Netherlands
ATTACH;FMTTYPE=image/png:https://backseaters.nl/wp-content/uploads/2025/08/Toverland_logo.png
END:VEVENT
BEGIN:VEVENT
DTSTART;TZID=Europe/Amsterdam:20260110T170000
DTEND;TZID=Europe/Amsterdam:20260110T203000
DTSTAMP:20260421T000806
CREATED:20250924T153845Z
LAST-MODIFIED:20250924T153845Z
UID:10000822-1768064400-1768077000@backseaters.nl
SUMMARY:Wunderlight
DESCRIPTION:
URL:https://backseaters.nl/event/wunderlight/2026-01-10/
LOCATION:Wunderland Kalkar\, Griether Straße 110-120\, Kalkar\, Nordrhein-Westfalen\, D-47546\, Germany
ATTACH;FMTTYPE=image/jpeg:https://backseaters.nl/wp-content/uploads/2025/09/Wunderland-Kalkar_Wunderlight-Kalkar.jpg
END:VEVENT
BEGIN:VEVENT
DTSTART;TZID=Europe/Amsterdam:20260111T110000
DTEND;TZID=Europe/Amsterdam:20260111T190000
DTSTAMP:20260421T000806
CREATED:20251118T151637Z
LAST-MODIFIED:20251118T153121Z
UID:10000912-1768129200-1768158000@backseaters.nl
SUMMARY:Winter Feelings
DESCRIPTION:
URL:https://backseaters.nl/event/winter-feelings/2026-01-11/
LOCATION:Attractiepark Toverland\, Toverlaan 2\, Sevenum\, Limburg\, 5975 MR\, Netherlands
ATTACH;FMTTYPE=image/png:https://backseaters.nl/wp-content/uploads/2025/08/Toverland_logo.png
END:VEVENT
BEGIN:VEVENT
DTSTART;TZID=Europe/Amsterdam:20260111T170000
DTEND;TZID=Europe/Amsterdam:20260111T203000
DTSTAMP:20260421T000806
CREATED:20250924T153845Z
LAST-MODIFIED:20250924T153845Z
UID:10000823-1768150800-1768163400@backseaters.nl
SUMMARY:Wunderlight
DESCRIPTION:
URL:https://backseaters.nl/event/wunderlight/2026-01-11/
LOCATION:Wunderland Kalkar\, Griether Straße 110-120\, Kalkar\, Nordrhein-Westfalen\, D-47546\, Germany
ATTACH;FMTTYPE=image/jpeg:https://backseaters.nl/wp-content/uploads/2025/09/Wunderland-Kalkar_Wunderlight-Kalkar.jpg
END:VEVENT
END:VCALENDAR