BEGIN:VCALENDAR
VERSION:2.0
PRODID:-//Backseaters - ECPv6.15.20//NONSGML v1.0//EN
CALSCALE:GREGORIAN
METHOD:PUBLISH
X-WR-CALNAME:Backseaters
X-ORIGINAL-URL:https://backseaters.nl
X-WR-CALDESC:Evenementen voor Backseaters
REFRESH-INTERVAL;VALUE=DURATION:PT1H
X-Robots-Tag:noindex
X-PUBLISHED-TTL:PT1H
BEGIN:VTIMEZONE
TZID:Europe/Amsterdam
BEGIN:DAYLIGHT
TZOFFSETFROM:+0100
TZOFFSETTO:+0200
TZNAME:CEST
DTSTART:20240331T010000
END:DAYLIGHT
BEGIN:STANDARD
TZOFFSETFROM:+0200
TZOFFSETTO:+0100
TZNAME:CET
DTSTART:20241027T010000
END:STANDARD
BEGIN:DAYLIGHT
TZOFFSETFROM:+0100
TZOFFSETTO:+0200
TZNAME:CEST
DTSTART:20250330T010000
END:DAYLIGHT
BEGIN:STANDARD
TZOFFSETFROM:+0200
TZOFFSETTO:+0100
TZNAME:CET
DTSTART:20251026T010000
END:STANDARD
BEGIN:DAYLIGHT
TZOFFSETFROM:+0100
TZOFFSETTO:+0200
TZNAME:CEST
DTSTART:20260329T010000
END:DAYLIGHT
BEGIN:STANDARD
TZOFFSETFROM:+0200
TZOFFSETTO:+0100
TZNAME:CET
DTSTART:20261025T010000
END:STANDARD
END:VTIMEZONE
BEGIN:VEVENT
DTSTART;TZID=Europe/Amsterdam:20251104T090000
DTEND;TZID=Europe/Amsterdam:20251104T170000
DTSTAMP:20260425T154031
CREATED:20250917T153844Z
LAST-MODIFIED:20250917T154647Z
UID:10000464-1762246800-1762275600@backseaters.nl
SUMMARY:Dino's in de Zoo
DESCRIPTION:
URL:https://backseaters.nl/event/dinos-in-de-zoo/2025-11-04/
LOCATION:Burgers’ Zoo\, Antoon van Hooffplein 1\, Arnhem\, Gelderland\, 6816 SH\, Netherlands
ATTACH;FMTTYPE=image/jpeg:https://backseaters.nl/wp-content/uploads/2025/09/Burgers-Zoo_Dinos-in-the-zoo_visual.jpg
END:VEVENT
BEGIN:VEVENT
DTSTART;TZID=Europe/Amsterdam:20251103T090000
DTEND;TZID=Europe/Amsterdam:20251103T170000
DTSTAMP:20260425T154031
CREATED:20250917T153844Z
LAST-MODIFIED:20250917T154647Z
UID:10000463-1762160400-1762189200@backseaters.nl
SUMMARY:Dino's in de Zoo
DESCRIPTION:
URL:https://backseaters.nl/event/dinos-in-de-zoo/2025-11-03/
LOCATION:Burgers’ Zoo\, Antoon van Hooffplein 1\, Arnhem\, Gelderland\, 6816 SH\, Netherlands
ATTACH;FMTTYPE=image/jpeg:https://backseaters.nl/wp-content/uploads/2025/09/Burgers-Zoo_Dinos-in-the-zoo_visual.jpg
END:VEVENT
BEGIN:VEVENT
DTSTART;TZID=Europe/Amsterdam:20251102T090000
DTEND;TZID=Europe/Amsterdam:20251102T170000
DTSTAMP:20260425T154031
CREATED:20250917T153844Z
LAST-MODIFIED:20250917T154647Z
UID:10000462-1762074000-1762102800@backseaters.nl
SUMMARY:Dino's in de Zoo
DESCRIPTION:
URL:https://backseaters.nl/event/dinos-in-de-zoo/2025-11-02/
LOCATION:Burgers’ Zoo\, Antoon van Hooffplein 1\, Arnhem\, Gelderland\, 6816 SH\, Netherlands
ATTACH;FMTTYPE=image/jpeg:https://backseaters.nl/wp-content/uploads/2025/09/Burgers-Zoo_Dinos-in-the-zoo_visual.jpg
END:VEVENT
BEGIN:VEVENT
DTSTART;TZID=Europe/Amsterdam:20251101T090000
DTEND;TZID=Europe/Amsterdam:20251101T170000
DTSTAMP:20260425T154031
CREATED:20250917T153844Z
LAST-MODIFIED:20250917T154647Z
UID:10000461-1761987600-1762016400@backseaters.nl
SUMMARY:Dino's in de Zoo
DESCRIPTION:
URL:https://backseaters.nl/event/dinos-in-de-zoo/2025-11-01/
LOCATION:Burgers’ Zoo\, Antoon van Hooffplein 1\, Arnhem\, Gelderland\, 6816 SH\, Netherlands
ATTACH;FMTTYPE=image/jpeg:https://backseaters.nl/wp-content/uploads/2025/09/Burgers-Zoo_Dinos-in-the-zoo_visual.jpg
END:VEVENT
BEGIN:VEVENT
DTSTART;TZID=Europe/Amsterdam:20251031T090000
DTEND;TZID=Europe/Amsterdam:20251031T170000
DTSTAMP:20260425T154031
CREATED:20250917T153844Z
LAST-MODIFIED:20250917T154647Z
UID:10000460-1761901200-1761930000@backseaters.nl
SUMMARY:Dino's in de Zoo
DESCRIPTION:
URL:https://backseaters.nl/event/dinos-in-de-zoo/2025-10-31/
LOCATION:Burgers’ Zoo\, Antoon van Hooffplein 1\, Arnhem\, Gelderland\, 6816 SH\, Netherlands
ATTACH;FMTTYPE=image/jpeg:https://backseaters.nl/wp-content/uploads/2025/09/Burgers-Zoo_Dinos-in-the-zoo_visual.jpg
END:VEVENT
BEGIN:VEVENT
DTSTART;TZID=Europe/Amsterdam:20251030T090000
DTEND;TZID=Europe/Amsterdam:20251030T170000
DTSTAMP:20260425T154031
CREATED:20250917T153844Z
LAST-MODIFIED:20250917T154647Z
UID:10000459-1761814800-1761843600@backseaters.nl
SUMMARY:Dino's in de Zoo
DESCRIPTION:
URL:https://backseaters.nl/event/dinos-in-de-zoo/2025-10-30/
LOCATION:Burgers’ Zoo\, Antoon van Hooffplein 1\, Arnhem\, Gelderland\, 6816 SH\, Netherlands
ATTACH;FMTTYPE=image/jpeg:https://backseaters.nl/wp-content/uploads/2025/09/Burgers-Zoo_Dinos-in-the-zoo_visual.jpg
END:VEVENT
BEGIN:VEVENT
DTSTART;TZID=Europe/Amsterdam:20251029T090000
DTEND;TZID=Europe/Amsterdam:20251029T170000
DTSTAMP:20260425T154031
CREATED:20250917T153844Z
LAST-MODIFIED:20250917T154647Z
UID:10000458-1761728400-1761757200@backseaters.nl
SUMMARY:Dino's in de Zoo
DESCRIPTION:
URL:https://backseaters.nl/event/dinos-in-de-zoo/2025-10-29/
LOCATION:Burgers’ Zoo\, Antoon van Hooffplein 1\, Arnhem\, Gelderland\, 6816 SH\, Netherlands
ATTACH;FMTTYPE=image/jpeg:https://backseaters.nl/wp-content/uploads/2025/09/Burgers-Zoo_Dinos-in-the-zoo_visual.jpg
END:VEVENT
BEGIN:VEVENT
DTSTART;TZID=Europe/Amsterdam:20251028T090000
DTEND;TZID=Europe/Amsterdam:20251028T170000
DTSTAMP:20260425T154031
CREATED:20250917T153844Z
LAST-MODIFIED:20250917T154647Z
UID:10000457-1761642000-1761670800@backseaters.nl
SUMMARY:Dino's in de Zoo
DESCRIPTION:
URL:https://backseaters.nl/event/dinos-in-de-zoo/2025-10-28/
LOCATION:Burgers’ Zoo\, Antoon van Hooffplein 1\, Arnhem\, Gelderland\, 6816 SH\, Netherlands
ATTACH;FMTTYPE=image/jpeg:https://backseaters.nl/wp-content/uploads/2025/09/Burgers-Zoo_Dinos-in-the-zoo_visual.jpg
END:VEVENT
BEGIN:VEVENT
DTSTART;TZID=Europe/Amsterdam:20251027T090000
DTEND;TZID=Europe/Amsterdam:20251027T170000
DTSTAMP:20260425T154031
CREATED:20250917T153844Z
LAST-MODIFIED:20250917T154647Z
UID:10000456-1761555600-1761584400@backseaters.nl
SUMMARY:Dino's in de Zoo
DESCRIPTION:
URL:https://backseaters.nl/event/dinos-in-de-zoo/2025-10-27/
LOCATION:Burgers’ Zoo\, Antoon van Hooffplein 1\, Arnhem\, Gelderland\, 6816 SH\, Netherlands
ATTACH;FMTTYPE=image/jpeg:https://backseaters.nl/wp-content/uploads/2025/09/Burgers-Zoo_Dinos-in-the-zoo_visual.jpg
END:VEVENT
BEGIN:VEVENT
DTSTART;TZID=Europe/Amsterdam:20251026T090000
DTEND;TZID=Europe/Amsterdam:20251026T170000
DTSTAMP:20260425T154031
CREATED:20250917T153844Z
LAST-MODIFIED:20250917T154647Z
UID:10000455-1761469200-1761498000@backseaters.nl
SUMMARY:Dino's in de Zoo
DESCRIPTION:
URL:https://backseaters.nl/event/dinos-in-de-zoo/2025-10-26/
LOCATION:Burgers’ Zoo\, Antoon van Hooffplein 1\, Arnhem\, Gelderland\, 6816 SH\, Netherlands
ATTACH;FMTTYPE=image/jpeg:https://backseaters.nl/wp-content/uploads/2025/09/Burgers-Zoo_Dinos-in-the-zoo_visual.jpg
END:VEVENT
BEGIN:VEVENT
DTSTART;TZID=Europe/Amsterdam:20251025T090000
DTEND;TZID=Europe/Amsterdam:20251025T170000
DTSTAMP:20260425T154031
CREATED:20250917T153844Z
LAST-MODIFIED:20250917T154647Z
UID:10000342-1761382800-1761411600@backseaters.nl
SUMMARY:Dino's in de Zoo
DESCRIPTION:
URL:https://backseaters.nl/event/dinos-in-de-zoo/2025-10-25/
LOCATION:Burgers’ Zoo\, Antoon van Hooffplein 1\, Arnhem\, Gelderland\, 6816 SH\, Netherlands
ATTACH;FMTTYPE=image/jpeg:https://backseaters.nl/wp-content/uploads/2025/09/Burgers-Zoo_Dinos-in-the-zoo_visual.jpg
END:VEVENT
BEGIN:VEVENT
DTSTART;TZID=Europe/Amsterdam:20251024T090000
DTEND;TZID=Europe/Amsterdam:20251024T170000
DTSTAMP:20260425T154031
CREATED:20250917T153844Z
LAST-MODIFIED:20250917T154647Z
UID:10000341-1761296400-1761325200@backseaters.nl
SUMMARY:Dino's in de Zoo
DESCRIPTION:
URL:https://backseaters.nl/event/dinos-in-de-zoo/2025-10-24/
LOCATION:Burgers’ Zoo\, Antoon van Hooffplein 1\, Arnhem\, Gelderland\, 6816 SH\, Netherlands
ATTACH;FMTTYPE=image/jpeg:https://backseaters.nl/wp-content/uploads/2025/09/Burgers-Zoo_Dinos-in-the-zoo_visual.jpg
END:VEVENT
BEGIN:VEVENT
DTSTART;TZID=Europe/Amsterdam:20251023T090000
DTEND;TZID=Europe/Amsterdam:20251023T170000
DTSTAMP:20260425T154031
CREATED:20250917T153844Z
LAST-MODIFIED:20250917T154647Z
UID:10000340-1761210000-1761238800@backseaters.nl
SUMMARY:Dino's in de Zoo
DESCRIPTION:
URL:https://backseaters.nl/event/dinos-in-de-zoo/2025-10-23/
LOCATION:Burgers’ Zoo\, Antoon van Hooffplein 1\, Arnhem\, Gelderland\, 6816 SH\, Netherlands
ATTACH;FMTTYPE=image/jpeg:https://backseaters.nl/wp-content/uploads/2025/09/Burgers-Zoo_Dinos-in-the-zoo_visual.jpg
END:VEVENT
BEGIN:VEVENT
DTSTART;TZID=Europe/Amsterdam:20251022T090000
DTEND;TZID=Europe/Amsterdam:20251022T170000
DTSTAMP:20260425T154031
CREATED:20250917T153844Z
LAST-MODIFIED:20250917T154647Z
UID:10000339-1761123600-1761152400@backseaters.nl
SUMMARY:Dino's in de Zoo
DESCRIPTION:
URL:https://backseaters.nl/event/dinos-in-de-zoo/2025-10-22/
LOCATION:Burgers’ Zoo\, Antoon van Hooffplein 1\, Arnhem\, Gelderland\, 6816 SH\, Netherlands
ATTACH;FMTTYPE=image/jpeg:https://backseaters.nl/wp-content/uploads/2025/09/Burgers-Zoo_Dinos-in-the-zoo_visual.jpg
END:VEVENT
BEGIN:VEVENT
DTSTART;TZID=Europe/Amsterdam:20251021T090000
DTEND;TZID=Europe/Amsterdam:20251021T170000
DTSTAMP:20260425T154031
CREATED:20250917T153844Z
LAST-MODIFIED:20250917T154647Z
UID:10000338-1761037200-1761066000@backseaters.nl
SUMMARY:Dino's in de Zoo
DESCRIPTION:
URL:https://backseaters.nl/event/dinos-in-de-zoo/2025-10-21/
LOCATION:Burgers’ Zoo\, Antoon van Hooffplein 1\, Arnhem\, Gelderland\, 6816 SH\, Netherlands
ATTACH;FMTTYPE=image/jpeg:https://backseaters.nl/wp-content/uploads/2025/09/Burgers-Zoo_Dinos-in-the-zoo_visual.jpg
END:VEVENT
BEGIN:VEVENT
DTSTART;TZID=Europe/Amsterdam:20251020T090000
DTEND;TZID=Europe/Amsterdam:20251020T170000
DTSTAMP:20260425T154031
CREATED:20250917T153844Z
LAST-MODIFIED:20250917T154647Z
UID:10000337-1760950800-1760979600@backseaters.nl
SUMMARY:Dino's in de Zoo
DESCRIPTION:
URL:https://backseaters.nl/event/dinos-in-de-zoo/2025-10-20/
LOCATION:Burgers’ Zoo\, Antoon van Hooffplein 1\, Arnhem\, Gelderland\, 6816 SH\, Netherlands
ATTACH;FMTTYPE=image/jpeg:https://backseaters.nl/wp-content/uploads/2025/09/Burgers-Zoo_Dinos-in-the-zoo_visual.jpg
END:VEVENT
BEGIN:VEVENT
DTSTART;TZID=Europe/Amsterdam:20251019T090000
DTEND;TZID=Europe/Amsterdam:20251019T170000
DTSTAMP:20260425T154031
CREATED:20250917T153844Z
LAST-MODIFIED:20250917T154647Z
UID:10000336-1760864400-1760893200@backseaters.nl
SUMMARY:Dino's in de Zoo
DESCRIPTION:
URL:https://backseaters.nl/event/dinos-in-de-zoo/2025-10-19/
LOCATION:Burgers’ Zoo\, Antoon van Hooffplein 1\, Arnhem\, Gelderland\, 6816 SH\, Netherlands
ATTACH;FMTTYPE=image/jpeg:https://backseaters.nl/wp-content/uploads/2025/09/Burgers-Zoo_Dinos-in-the-zoo_visual.jpg
END:VEVENT
BEGIN:VEVENT
DTSTART;TZID=Europe/Amsterdam:20251018T090000
DTEND;TZID=Europe/Amsterdam:20251018T170000
DTSTAMP:20260425T154031
CREATED:20250917T153844Z
LAST-MODIFIED:20250917T154647Z
UID:10000454-1760778000-1760806800@backseaters.nl
SUMMARY:Dino's in de Zoo
DESCRIPTION:
URL:https://backseaters.nl/event/dinos-in-de-zoo/2025-10-18/
LOCATION:Burgers’ Zoo\, Antoon van Hooffplein 1\, Arnhem\, Gelderland\, 6816 SH\, Netherlands
ATTACH;FMTTYPE=image/jpeg:https://backseaters.nl/wp-content/uploads/2025/09/Burgers-Zoo_Dinos-in-the-zoo_visual.jpg
END:VEVENT
BEGIN:VEVENT
DTSTART;TZID=Europe/Amsterdam:20251017T090000
DTEND;TZID=Europe/Amsterdam:20251017T170000
DTSTAMP:20260425T154031
CREATED:20250917T153844Z
LAST-MODIFIED:20250917T154647Z
UID:10000453-1760691600-1760720400@backseaters.nl
SUMMARY:Dino's in de Zoo
DESCRIPTION:
URL:https://backseaters.nl/event/dinos-in-de-zoo/2025-10-17/
LOCATION:Burgers’ Zoo\, Antoon van Hooffplein 1\, Arnhem\, Gelderland\, 6816 SH\, Netherlands
ATTACH;FMTTYPE=image/jpeg:https://backseaters.nl/wp-content/uploads/2025/09/Burgers-Zoo_Dinos-in-the-zoo_visual.jpg
END:VEVENT
BEGIN:VEVENT
DTSTART;TZID=Europe/Amsterdam:20251016T090000
DTEND;TZID=Europe/Amsterdam:20251016T170000
DTSTAMP:20260425T154031
CREATED:20250917T153844Z
LAST-MODIFIED:20250917T154647Z
UID:10000452-1760605200-1760634000@backseaters.nl
SUMMARY:Dino's in de Zoo
DESCRIPTION:
URL:https://backseaters.nl/event/dinos-in-de-zoo/2025-10-16/
LOCATION:Burgers’ Zoo\, Antoon van Hooffplein 1\, Arnhem\, Gelderland\, 6816 SH\, Netherlands
ATTACH;FMTTYPE=image/jpeg:https://backseaters.nl/wp-content/uploads/2025/09/Burgers-Zoo_Dinos-in-the-zoo_visual.jpg
END:VEVENT
BEGIN:VEVENT
DTSTART;TZID=Europe/Amsterdam:20251015T090000
DTEND;TZID=Europe/Amsterdam:20251015T170000
DTSTAMP:20260425T154031
CREATED:20250917T153844Z
LAST-MODIFIED:20250917T154647Z
UID:10000451-1760518800-1760547600@backseaters.nl
SUMMARY:Dino's in de Zoo
DESCRIPTION:
URL:https://backseaters.nl/event/dinos-in-de-zoo/2025-10-15/
LOCATION:Burgers’ Zoo\, Antoon van Hooffplein 1\, Arnhem\, Gelderland\, 6816 SH\, Netherlands
ATTACH;FMTTYPE=image/jpeg:https://backseaters.nl/wp-content/uploads/2025/09/Burgers-Zoo_Dinos-in-the-zoo_visual.jpg
END:VEVENT
BEGIN:VEVENT
DTSTART;TZID=Europe/Amsterdam:20251014T090000
DTEND;TZID=Europe/Amsterdam:20251014T170000
DTSTAMP:20260425T154031
CREATED:20250917T153844Z
LAST-MODIFIED:20250917T154647Z
UID:10000450-1760432400-1760461200@backseaters.nl
SUMMARY:Dino's in de Zoo
DESCRIPTION:
URL:https://backseaters.nl/event/dinos-in-de-zoo/2025-10-14/
LOCATION:Burgers’ Zoo\, Antoon van Hooffplein 1\, Arnhem\, Gelderland\, 6816 SH\, Netherlands
ATTACH;FMTTYPE=image/jpeg:https://backseaters.nl/wp-content/uploads/2025/09/Burgers-Zoo_Dinos-in-the-zoo_visual.jpg
END:VEVENT
BEGIN:VEVENT
DTSTART;TZID=Europe/Amsterdam:20251013T090000
DTEND;TZID=Europe/Amsterdam:20251013T170000
DTSTAMP:20260425T154031
CREATED:20250917T153844Z
LAST-MODIFIED:20250917T154647Z
UID:10000449-1760346000-1760374800@backseaters.nl
SUMMARY:Dino's in de Zoo
DESCRIPTION:
URL:https://backseaters.nl/event/dinos-in-de-zoo/2025-10-13/
LOCATION:Burgers’ Zoo\, Antoon van Hooffplein 1\, Arnhem\, Gelderland\, 6816 SH\, Netherlands
ATTACH;FMTTYPE=image/jpeg:https://backseaters.nl/wp-content/uploads/2025/09/Burgers-Zoo_Dinos-in-the-zoo_visual.jpg
END:VEVENT
BEGIN:VEVENT
DTSTART;TZID=Europe/Amsterdam:20251012T090000
DTEND;TZID=Europe/Amsterdam:20251012T170000
DTSTAMP:20260425T154031
CREATED:20250917T153844Z
LAST-MODIFIED:20250917T154647Z
UID:10000448-1760259600-1760288400@backseaters.nl
SUMMARY:Dino's in de Zoo
DESCRIPTION:
URL:https://backseaters.nl/event/dinos-in-de-zoo/2025-10-12/
LOCATION:Burgers’ Zoo\, Antoon van Hooffplein 1\, Arnhem\, Gelderland\, 6816 SH\, Netherlands
ATTACH;FMTTYPE=image/jpeg:https://backseaters.nl/wp-content/uploads/2025/09/Burgers-Zoo_Dinos-in-the-zoo_visual.jpg
END:VEVENT
BEGIN:VEVENT
DTSTART;TZID=Europe/Amsterdam:20251011T090000
DTEND;TZID=Europe/Amsterdam:20251011T170000
DTSTAMP:20260425T154031
CREATED:20250917T153844Z
LAST-MODIFIED:20250917T154647Z
UID:10000447-1760173200-1760202000@backseaters.nl
SUMMARY:Dino's in de Zoo
DESCRIPTION:
URL:https://backseaters.nl/event/dinos-in-de-zoo/2025-10-11/
LOCATION:Burgers’ Zoo\, Antoon van Hooffplein 1\, Arnhem\, Gelderland\, 6816 SH\, Netherlands
ATTACH;FMTTYPE=image/jpeg:https://backseaters.nl/wp-content/uploads/2025/09/Burgers-Zoo_Dinos-in-the-zoo_visual.jpg
END:VEVENT
BEGIN:VEVENT
DTSTART;TZID=Europe/Amsterdam:20251010T090000
DTEND;TZID=Europe/Amsterdam:20251010T170000
DTSTAMP:20260425T154031
CREATED:20250917T153844Z
LAST-MODIFIED:20250917T154647Z
UID:10000446-1760086800-1760115600@backseaters.nl
SUMMARY:Dino's in de Zoo
DESCRIPTION:
URL:https://backseaters.nl/event/dinos-in-de-zoo/2025-10-10/
LOCATION:Burgers’ Zoo\, Antoon van Hooffplein 1\, Arnhem\, Gelderland\, 6816 SH\, Netherlands
ATTACH;FMTTYPE=image/jpeg:https://backseaters.nl/wp-content/uploads/2025/09/Burgers-Zoo_Dinos-in-the-zoo_visual.jpg
END:VEVENT
BEGIN:VEVENT
DTSTART;TZID=Europe/Amsterdam:20251009T090000
DTEND;TZID=Europe/Amsterdam:20251009T170000
DTSTAMP:20260425T154031
CREATED:20250917T153844Z
LAST-MODIFIED:20250917T154647Z
UID:10000445-1760000400-1760029200@backseaters.nl
SUMMARY:Dino's in de Zoo
DESCRIPTION:
URL:https://backseaters.nl/event/dinos-in-de-zoo/2025-10-09/
LOCATION:Burgers’ Zoo\, Antoon van Hooffplein 1\, Arnhem\, Gelderland\, 6816 SH\, Netherlands
ATTACH;FMTTYPE=image/jpeg:https://backseaters.nl/wp-content/uploads/2025/09/Burgers-Zoo_Dinos-in-the-zoo_visual.jpg
END:VEVENT
BEGIN:VEVENT
DTSTART;TZID=Europe/Amsterdam:20251008T090000
DTEND;TZID=Europe/Amsterdam:20251008T170000
DTSTAMP:20260425T154031
CREATED:20250917T153844Z
LAST-MODIFIED:20250917T154647Z
UID:10000444-1759914000-1759942800@backseaters.nl
SUMMARY:Dino's in de Zoo
DESCRIPTION:
URL:https://backseaters.nl/event/dinos-in-de-zoo/2025-10-08/
LOCATION:Burgers’ Zoo\, Antoon van Hooffplein 1\, Arnhem\, Gelderland\, 6816 SH\, Netherlands
ATTACH;FMTTYPE=image/jpeg:https://backseaters.nl/wp-content/uploads/2025/09/Burgers-Zoo_Dinos-in-the-zoo_visual.jpg
END:VEVENT
BEGIN:VEVENT
DTSTART;TZID=Europe/Amsterdam:20251007T090000
DTEND;TZID=Europe/Amsterdam:20251007T170000
DTSTAMP:20260425T154031
CREATED:20250917T153844Z
LAST-MODIFIED:20250917T154647Z
UID:10000443-1759827600-1759856400@backseaters.nl
SUMMARY:Dino's in de Zoo
DESCRIPTION:
URL:https://backseaters.nl/event/dinos-in-de-zoo/2025-10-07/
LOCATION:Burgers’ Zoo\, Antoon van Hooffplein 1\, Arnhem\, Gelderland\, 6816 SH\, Netherlands
ATTACH;FMTTYPE=image/jpeg:https://backseaters.nl/wp-content/uploads/2025/09/Burgers-Zoo_Dinos-in-the-zoo_visual.jpg
END:VEVENT
BEGIN:VEVENT
DTSTART;TZID=Europe/Amsterdam:20251006T090000
DTEND;TZID=Europe/Amsterdam:20251006T170000
DTSTAMP:20260425T154031
CREATED:20250917T153844Z
LAST-MODIFIED:20250917T154647Z
UID:10000442-1759741200-1759770000@backseaters.nl
SUMMARY:Dino's in de Zoo
DESCRIPTION:
URL:https://backseaters.nl/event/dinos-in-de-zoo/2025-10-06/
LOCATION:Burgers’ Zoo\, Antoon van Hooffplein 1\, Arnhem\, Gelderland\, 6816 SH\, Netherlands
ATTACH;FMTTYPE=image/jpeg:https://backseaters.nl/wp-content/uploads/2025/09/Burgers-Zoo_Dinos-in-the-zoo_visual.jpg
END:VEVENT
END:VCALENDAR