BEGIN:VCALENDAR
VERSION:2.0
PRODID:-//Backseaters - ECPv6.15.20//NONSGML v1.0//EN
CALSCALE:GREGORIAN
METHOD:PUBLISH
X-ORIGINAL-URL:https://backseaters.nl
X-WR-CALDESC:Evenementen voor Backseaters
REFRESH-INTERVAL;VALUE=DURATION:PT1H
X-Robots-Tag:noindex
X-PUBLISHED-TTL:PT1H
BEGIN:VTIMEZONE
TZID:Europe/Amsterdam
BEGIN:DAYLIGHT
TZOFFSETFROM:+0100
TZOFFSETTO:+0200
TZNAME:CEST
DTSTART:20240331T010000
END:DAYLIGHT
BEGIN:STANDARD
TZOFFSETFROM:+0200
TZOFFSETTO:+0100
TZNAME:CET
DTSTART:20241027T010000
END:STANDARD
BEGIN:DAYLIGHT
TZOFFSETFROM:+0100
TZOFFSETTO:+0200
TZNAME:CEST
DTSTART:20250330T010000
END:DAYLIGHT
BEGIN:STANDARD
TZOFFSETFROM:+0200
TZOFFSETTO:+0100
TZNAME:CET
DTSTART:20251026T010000
END:STANDARD
BEGIN:DAYLIGHT
TZOFFSETFROM:+0100
TZOFFSETTO:+0200
TZNAME:CEST
DTSTART:20260329T010000
END:DAYLIGHT
BEGIN:STANDARD
TZOFFSETFROM:+0200
TZOFFSETTO:+0100
TZNAME:CET
DTSTART:20261025T010000
END:STANDARD
END:VTIMEZONE
BEGIN:VEVENT
DTSTART;TZID=Europe/Amsterdam:20251102T100000
DTEND;TZID=Europe/Amsterdam:20251102T180000
DTSTAMP:20260421T142404
CREATED:20250916T093959Z
LAST-MODIFIED:20250916T093959Z
UID:10000311-1762077600-1762106400@backseaters.nl
SUMMARY:Ibilaw
DESCRIPTION:
URL:https://backseaters.nl/event/ibilaw/2025-11-02/
LOCATION:Walibi Belgium\, Boulevard de l'Europe 100\, Wavre\, Waals-Brabant\, 1300\, Belgium
ATTACH;FMTTYPE=image/jpeg:https://backseaters.nl/wp-content/uploads/2025/09/Walibi-Belgium_Halloween_Ibilaw_logo.jpg
END:VEVENT
BEGIN:VEVENT
DTSTART;TZID=Europe/Amsterdam:20251101T100000
DTEND;TZID=Europe/Amsterdam:20251101T220000
DTSTAMP:20260421T142404
CREATED:20250916T093959Z
LAST-MODIFIED:20250916T093959Z
UID:10000310-1761991200-1762034400@backseaters.nl
SUMMARY:Ibilaw
DESCRIPTION:
URL:https://backseaters.nl/event/ibilaw/2025-11-01/
LOCATION:Walibi Belgium\, Boulevard de l'Europe 100\, Wavre\, Waals-Brabant\, 1300\, Belgium
ATTACH;FMTTYPE=image/jpeg:https://backseaters.nl/wp-content/uploads/2025/09/Walibi-Belgium_Halloween_Ibilaw_logo.jpg
END:VEVENT
BEGIN:VEVENT
DTSTART;TZID=Europe/Amsterdam:20251031T100000
DTEND;TZID=Europe/Amsterdam:20251031T220000
DTSTAMP:20260421T142404
CREATED:20250916T093959Z
LAST-MODIFIED:20250916T093959Z
UID:10000309-1761904800-1761948000@backseaters.nl
SUMMARY:Ibilaw
DESCRIPTION:
URL:https://backseaters.nl/event/ibilaw/2025-10-31/
LOCATION:Walibi Belgium\, Boulevard de l'Europe 100\, Wavre\, Waals-Brabant\, 1300\, Belgium
ATTACH;FMTTYPE=image/jpeg:https://backseaters.nl/wp-content/uploads/2025/09/Walibi-Belgium_Halloween_Ibilaw_logo.jpg
END:VEVENT
BEGIN:VEVENT
DTSTART;TZID=Europe/Amsterdam:20251030T100000
DTEND;TZID=Europe/Amsterdam:20251030T220000
DTSTAMP:20260421T142404
CREATED:20250916T093959Z
LAST-MODIFIED:20250916T093959Z
UID:10000308-1761818400-1761861600@backseaters.nl
SUMMARY:Ibilaw
DESCRIPTION:
URL:https://backseaters.nl/event/ibilaw/2025-10-30/
LOCATION:Walibi Belgium\, Boulevard de l'Europe 100\, Wavre\, Waals-Brabant\, 1300\, Belgium
ATTACH;FMTTYPE=image/jpeg:https://backseaters.nl/wp-content/uploads/2025/09/Walibi-Belgium_Halloween_Ibilaw_logo.jpg
END:VEVENT
BEGIN:VEVENT
DTSTART;TZID=Europe/Amsterdam:20251029T100000
DTEND;TZID=Europe/Amsterdam:20251029T220000
DTSTAMP:20260421T142404
CREATED:20250916T093959Z
LAST-MODIFIED:20250916T093959Z
UID:10000307-1761732000-1761775200@backseaters.nl
SUMMARY:Ibilaw
DESCRIPTION:
URL:https://backseaters.nl/event/ibilaw/2025-10-29/
LOCATION:Walibi Belgium\, Boulevard de l'Europe 100\, Wavre\, Waals-Brabant\, 1300\, Belgium
ATTACH;FMTTYPE=image/jpeg:https://backseaters.nl/wp-content/uploads/2025/09/Walibi-Belgium_Halloween_Ibilaw_logo.jpg
END:VEVENT
BEGIN:VEVENT
DTSTART;TZID=Europe/Amsterdam:20251028T100000
DTEND;TZID=Europe/Amsterdam:20251028T220000
DTSTAMP:20260421T142404
CREATED:20250916T093959Z
LAST-MODIFIED:20250916T093959Z
UID:10000306-1761645600-1761688800@backseaters.nl
SUMMARY:Ibilaw
DESCRIPTION:
URL:https://backseaters.nl/event/ibilaw/2025-10-28/
LOCATION:Walibi Belgium\, Boulevard de l'Europe 100\, Wavre\, Waals-Brabant\, 1300\, Belgium
ATTACH;FMTTYPE=image/jpeg:https://backseaters.nl/wp-content/uploads/2025/09/Walibi-Belgium_Halloween_Ibilaw_logo.jpg
END:VEVENT
BEGIN:VEVENT
DTSTART;TZID=Europe/Amsterdam:20251027T100000
DTEND;TZID=Europe/Amsterdam:20251027T220000
DTSTAMP:20260421T142404
CREATED:20250916T093959Z
LAST-MODIFIED:20250916T093959Z
UID:10000305-1761559200-1761602400@backseaters.nl
SUMMARY:Ibilaw
DESCRIPTION:
URL:https://backseaters.nl/event/ibilaw/2025-10-27/
LOCATION:Walibi Belgium\, Boulevard de l'Europe 100\, Wavre\, Waals-Brabant\, 1300\, Belgium
ATTACH;FMTTYPE=image/jpeg:https://backseaters.nl/wp-content/uploads/2025/09/Walibi-Belgium_Halloween_Ibilaw_logo.jpg
END:VEVENT
BEGIN:VEVENT
DTSTART;TZID=Europe/Amsterdam:20251026T100000
DTEND;TZID=Europe/Amsterdam:20251026T220000
DTSTAMP:20260421T142404
CREATED:20250916T093959Z
LAST-MODIFIED:20250916T093959Z
UID:10000304-1761472800-1761516000@backseaters.nl
SUMMARY:Ibilaw
DESCRIPTION:
URL:https://backseaters.nl/event/ibilaw/2025-10-26/
LOCATION:Walibi Belgium\, Boulevard de l'Europe 100\, Wavre\, Waals-Brabant\, 1300\, Belgium
ATTACH;FMTTYPE=image/jpeg:https://backseaters.nl/wp-content/uploads/2025/09/Walibi-Belgium_Halloween_Ibilaw_logo.jpg
END:VEVENT
BEGIN:VEVENT
DTSTART;TZID=Europe/Amsterdam:20251025T100000
DTEND;TZID=Europe/Amsterdam:20251025T220000
DTSTAMP:20260421T142404
CREATED:20250916T093959Z
LAST-MODIFIED:20250916T093959Z
UID:10000303-1761386400-1761429600@backseaters.nl
SUMMARY:Ibilaw
DESCRIPTION:
URL:https://backseaters.nl/event/ibilaw/2025-10-25/
LOCATION:Walibi Belgium\, Boulevard de l'Europe 100\, Wavre\, Waals-Brabant\, 1300\, Belgium
ATTACH;FMTTYPE=image/jpeg:https://backseaters.nl/wp-content/uploads/2025/09/Walibi-Belgium_Halloween_Ibilaw_logo.jpg
END:VEVENT
BEGIN:VEVENT
DTSTART;TZID=Europe/Amsterdam:20251024T100000
DTEND;TZID=Europe/Amsterdam:20251024T180000
DTSTAMP:20260421T142404
CREATED:20250916T093959Z
LAST-MODIFIED:20250916T093959Z
UID:10000302-1761300000-1761328800@backseaters.nl
SUMMARY:Ibilaw
DESCRIPTION:
URL:https://backseaters.nl/event/ibilaw/2025-10-24/
LOCATION:Walibi Belgium\, Boulevard de l'Europe 100\, Wavre\, Waals-Brabant\, 1300\, Belgium
ATTACH;FMTTYPE=image/jpeg:https://backseaters.nl/wp-content/uploads/2025/09/Walibi-Belgium_Halloween_Ibilaw_logo.jpg
END:VEVENT
BEGIN:VEVENT
DTSTART;TZID=Europe/Amsterdam:20251023T100000
DTEND;TZID=Europe/Amsterdam:20251023T180000
DTSTAMP:20260421T142404
CREATED:20250916T093959Z
LAST-MODIFIED:20250916T093959Z
UID:10000301-1761213600-1761242400@backseaters.nl
SUMMARY:Ibilaw
DESCRIPTION:
URL:https://backseaters.nl/event/ibilaw/2025-10-23/
LOCATION:Walibi Belgium\, Boulevard de l'Europe 100\, Wavre\, Waals-Brabant\, 1300\, Belgium
ATTACH;FMTTYPE=image/jpeg:https://backseaters.nl/wp-content/uploads/2025/09/Walibi-Belgium_Halloween_Ibilaw_logo.jpg
END:VEVENT
BEGIN:VEVENT
DTSTART;TZID=Europe/Amsterdam:20251022T100000
DTEND;TZID=Europe/Amsterdam:20251022T180000
DTSTAMP:20260421T142404
CREATED:20250916T093959Z
LAST-MODIFIED:20250916T093959Z
UID:10000300-1761127200-1761156000@backseaters.nl
SUMMARY:Ibilaw
DESCRIPTION:
URL:https://backseaters.nl/event/ibilaw/2025-10-22/
LOCATION:Walibi Belgium\, Boulevard de l'Europe 100\, Wavre\, Waals-Brabant\, 1300\, Belgium
ATTACH;FMTTYPE=image/jpeg:https://backseaters.nl/wp-content/uploads/2025/09/Walibi-Belgium_Halloween_Ibilaw_logo.jpg
END:VEVENT
BEGIN:VEVENT
DTSTART;TZID=Europe/Amsterdam:20251021T100000
DTEND;TZID=Europe/Amsterdam:20251021T180000
DTSTAMP:20260421T142404
CREATED:20250916T093959Z
LAST-MODIFIED:20250916T093959Z
UID:10000299-1761040800-1761069600@backseaters.nl
SUMMARY:Ibilaw
DESCRIPTION:
URL:https://backseaters.nl/event/ibilaw/2025-10-21/
LOCATION:Walibi Belgium\, Boulevard de l'Europe 100\, Wavre\, Waals-Brabant\, 1300\, Belgium
ATTACH;FMTTYPE=image/jpeg:https://backseaters.nl/wp-content/uploads/2025/09/Walibi-Belgium_Halloween_Ibilaw_logo.jpg
END:VEVENT
BEGIN:VEVENT
DTSTART;TZID=Europe/Amsterdam:20251020T100000
DTEND;TZID=Europe/Amsterdam:20251020T180000
DTSTAMP:20260421T142404
CREATED:20250916T093959Z
LAST-MODIFIED:20250916T093959Z
UID:10000298-1760954400-1760983200@backseaters.nl
SUMMARY:Ibilaw
DESCRIPTION:
URL:https://backseaters.nl/event/ibilaw/2025-10-20/
LOCATION:Walibi Belgium\, Boulevard de l'Europe 100\, Wavre\, Waals-Brabant\, 1300\, Belgium
ATTACH;FMTTYPE=image/jpeg:https://backseaters.nl/wp-content/uploads/2025/09/Walibi-Belgium_Halloween_Ibilaw_logo.jpg
END:VEVENT
BEGIN:VEVENT
DTSTART;TZID=Europe/Amsterdam:20251019T100000
DTEND;TZID=Europe/Amsterdam:20251019T180000
DTSTAMP:20260421T142404
CREATED:20250916T093959Z
LAST-MODIFIED:20250916T093959Z
UID:10000297-1760868000-1760896800@backseaters.nl
SUMMARY:Ibilaw
DESCRIPTION:
URL:https://backseaters.nl/event/ibilaw/2025-10-19/
LOCATION:Walibi Belgium\, Boulevard de l'Europe 100\, Wavre\, Waals-Brabant\, 1300\, Belgium
ATTACH;FMTTYPE=image/jpeg:https://backseaters.nl/wp-content/uploads/2025/09/Walibi-Belgium_Halloween_Ibilaw_logo.jpg
END:VEVENT
BEGIN:VEVENT
DTSTART;TZID=Europe/Amsterdam:20251018T100000
DTEND;TZID=Europe/Amsterdam:20251018T220000
DTSTAMP:20260421T142404
CREATED:20250916T093959Z
LAST-MODIFIED:20250916T093959Z
UID:10000296-1760781600-1760824800@backseaters.nl
SUMMARY:Ibilaw
DESCRIPTION:
URL:https://backseaters.nl/event/ibilaw/2025-10-18/
LOCATION:Walibi Belgium\, Boulevard de l'Europe 100\, Wavre\, Waals-Brabant\, 1300\, Belgium
ATTACH;FMTTYPE=image/jpeg:https://backseaters.nl/wp-content/uploads/2025/09/Walibi-Belgium_Halloween_Ibilaw_logo.jpg
END:VEVENT
BEGIN:VEVENT
DTSTART;TZID=Europe/Amsterdam:20251012T100000
DTEND;TZID=Europe/Amsterdam:20251012T180000
DTSTAMP:20260421T142404
CREATED:20250916T093959Z
LAST-MODIFIED:20250916T093959Z
UID:10000295-1760263200-1760292000@backseaters.nl
SUMMARY:Ibilaw
DESCRIPTION:
URL:https://backseaters.nl/event/ibilaw/2025-10-12/
LOCATION:Walibi Belgium\, Boulevard de l'Europe 100\, Wavre\, Waals-Brabant\, 1300\, Belgium
ATTACH;FMTTYPE=image/jpeg:https://backseaters.nl/wp-content/uploads/2025/09/Walibi-Belgium_Halloween_Ibilaw_logo.jpg
END:VEVENT
BEGIN:VEVENT
DTSTART;TZID=Europe/Amsterdam:20251011T100000
DTEND;TZID=Europe/Amsterdam:20251011T220000
DTSTAMP:20260421T142404
CREATED:20250916T093959Z
LAST-MODIFIED:20250916T093959Z
UID:10000294-1760176800-1760220000@backseaters.nl
SUMMARY:Ibilaw
DESCRIPTION:
URL:https://backseaters.nl/event/ibilaw/2025-10-11/
LOCATION:Walibi Belgium\, Boulevard de l'Europe 100\, Wavre\, Waals-Brabant\, 1300\, Belgium
ATTACH;FMTTYPE=image/jpeg:https://backseaters.nl/wp-content/uploads/2025/09/Walibi-Belgium_Halloween_Ibilaw_logo.jpg
END:VEVENT
END:VCALENDAR